BEGIN:VCALENDAR
VERSION:2.0
PRODID:-//Live Like Locals Savannah - ECPv6.15.13//NONSGML v1.0//EN
CALSCALE:GREGORIAN
METHOD:PUBLISH
X-ORIGINAL-URL:https://livelikelocalssavannah.com
X-WR-CALDESC:Events for Live Like Locals Savannah
REFRESH-INTERVAL;VALUE=DURATION:PT1H
X-Robots-Tag:noindex
X-PUBLISHED-TTL:PT1H
BEGIN:VTIMEZONE
TZID:America/New_York
BEGIN:DAYLIGHT
TZOFFSETFROM:-0500
TZOFFSETTO:-0400
TZNAME:EDT
DTSTART:20240310T070000
END:DAYLIGHT
BEGIN:STANDARD
TZOFFSETFROM:-0400
TZOFFSETTO:-0500
TZNAME:EST
DTSTART:20241103T060000
END:STANDARD
BEGIN:DAYLIGHT
TZOFFSETFROM:-0500
TZOFFSETTO:-0400
TZNAME:EDT
DTSTART:20250309T070000
END:DAYLIGHT
BEGIN:STANDARD
TZOFFSETFROM:-0400
TZOFFSETTO:-0500
TZNAME:EST
DTSTART:20251102T060000
END:STANDARD
BEGIN:DAYLIGHT
TZOFFSETFROM:-0500
TZOFFSETTO:-0400
TZNAME:EDT
DTSTART:20260308T070000
END:DAYLIGHT
BEGIN:STANDARD
TZOFFSETFROM:-0400
TZOFFSETTO:-0500
TZNAME:EST
DTSTART:20261101T060000
END:STANDARD
BEGIN:DAYLIGHT
TZOFFSETFROM:-0500
TZOFFSETTO:-0400
TZNAME:EDT
DTSTART:20270314T070000
END:DAYLIGHT
BEGIN:STANDARD
TZOFFSETFROM:-0400
TZOFFSETTO:-0500
TZNAME:EST
DTSTART:20271107T060000
END:STANDARD
END:VTIMEZONE
BEGIN:VEVENT
DTSTART;TZID=America/New_York:20251205T174500
DTEND;TZID=America/New_York:20251205T184500
DTSTAMP:20260420T011255
CREATED:20251201T151519Z
LAST-MODIFIED:20251201T151519Z
UID:6031-1764956700-1764960300@livelikelocalssavannah.com
SUMMARY:Sound Bath - Golden Root Yoga - Pooler
DESCRIPTION:Join Rachel for a deeply restorative Sound Bath + Yoga Nidra\, a full-body listening experience designed to help your mind and body unwind. \nYou’ll begin with gentle seated stretches to release tension\, then settle into stillness supported by props. As Rachel guides you through yoga nidra\, the sounds of crystal singing bowls\, chimes\, and other instruments wash over you\, helping the nervous system move from stress to calm. \nSign Up Today! $30.00 per person.\n*Members receive 15% off automatically applied at checkout. \nhttps://app.fitdegree.com/t/dashboard/registrables/3753848
URL:https://livelikelocalssavannah.com/event/sound-bath-golden-root-yoga-pooler/
LOCATION:Golden Root Yoga\, 333 US Hwy 80\, Pooler\, 31322\, United States
CATEGORIES:Business,Health
ATTACH;FMTTYPE=image/jpeg:https://livelikelocalssavannah.com/wp-content/uploads/2025/12/sound-bath-Golden-Root-Yoga.jpg
END:VEVENT
BEGIN:VEVENT
DTSTART;TZID=America/New_York:20251206T160000
DTEND;TZID=America/New_York:20251206T200000
DTSTAMP:20260420T011255
CREATED:20250916T002218Z
LAST-MODIFIED:20250916T002218Z
UID:5583-1765036800-1765051200@livelikelocalssavannah.com
SUMMARY:Movie Night in the Park  - Jingle Jangle
DESCRIPTION:Celebrate the season at Movie Night in the Park & Night Market at Charlie Brooks Sports Complex in Savannah! Enjoy Jingle Jangle on the big screen\, food trucks\, night market shopping\, a fun scavenger hunt\, and free family activities. Saturday\, Dec 6\, 4–8 PM.
URL:https://livelikelocalssavannah.com/event/movie-night-in-the-park-jingle-jangle/
LOCATION:Charlie Brooks Sports Complex\, 7001 Johnny Mercer Blvd\, Savannah\, 31410\, United States
ATTACH;FMTTYPE=image/jpeg:https://livelikelocalssavannah.com/wp-content/uploads/2025/08/LLL-movie-night-nov-web-banner-.jpg
END:VEVENT
BEGIN:VEVENT
DTSTART;TZID=America/New_York:20251212T170000
DTEND;TZID=America/New_York:20251212T200000
DTSTAMP:20260420T011255
CREATED:20251113T230117Z
LAST-MODIFIED:20251113T231810Z
UID:5962-1765558800-1765569600@livelikelocalssavannah.com
SUMMARY:2nd Annual Night Market
DESCRIPTION:Join us for the 2nd Annual Night Market at Marion Lake! Enjoy holiday shopping with local makers\, outdoor games by the lake\, food trucks\, music\, and fun prizes. Friday\, Dec. 12th from 5–8 PM in Savannah—family-friendly and free to attend.
URL:https://livelikelocalssavannah.com/event/2nd-annual-night-market/
LOCATION:Marion Lake Apartment\, 1850 Benton Blvd\, Savannah\,\, GA\, 31407\, United States
ATTACH;FMTTYPE=image/jpeg:https://livelikelocalssavannah.com/wp-content/uploads/2025/10/marion-lake-night-market-1920-x-800-px-2.jpg
END:VEVENT
BEGIN:VEVENT
DTSTART;TZID=America/New_York:20260108T180000
DTEND;TZID=America/New_York:20260108T200000
DTSTAMP:20260420T011255
CREATED:20251223T201124Z
LAST-MODIFIED:20251223T205450Z
UID:6075-1767895200-1767902400@livelikelocalssavannah.com
SUMMARY:Local Social at Port Wentworth
DESCRIPTION:RSVP and stay up to date!\n			\n				\n				\n				\n				\n				\n\n                \n                        \n                             \n                        \n                        Name(Required)\n                            \n                            \n                                                    \n                                                    First\n                                                \n                            \n                            \n                                                    \n                                                    Last\n                                                \n                            \n                        Email(Required)\n                                \n                                    \n                                    Enter Email\n                                \n                                \n                                    \n                                    Confirm Email\n                                \n                                \n                            Get Text Alerts for upcoming events\, giveaways and contests!\n          \n            \n            \n            \n            \n            \n            \n            \n            \n            \n            \n            \n            \n        \n                        \n                        \n \n			\n			\n				\n				\n				\n				\n			\n				\n				\n				\n				\n				\n				\n				\n				\n				\n				\n				Kick off the year by connecting with the people who make Port Wentworth a great place to live\, work\, and grow. \nJoin Live Like Locals for our January Local Social\, hosted at Abrazo at Rice Hope\, on January 8th from 6:00–8:00 PM. This casual\, welcoming evening is designed to bring together city officials\, business owners\, community leaders\, local professionals\, and residents in a relaxed\, social setting. \nOur Local Socials take place once a month in different cities across the Savannah Metro\, creating opportunities to build real relationships\, exchange ideas\, and strengthen connections within each community we serve. \nWhether you’re a business owner looking to expand your network\, a professional wanting to stay connected\, or a resident who simply enjoys being involved in the community\, this event is for you. There’s no formal agenda and no sales pressure—just meaningful conversations\, great company\, and a chance to engage with the Live Like Locals team. \nBest of all\, this event is free to attend. \n📍 Location: Abrazo at Rice Hope📅 Date: January 8⏰ Time: 6:00–8:00 PM \nCome as you are\, bring a friend\, and start the year by showing up for your community.
URL:https://livelikelocalssavannah.com/event/local-social-at-port-wentworth/
LOCATION:Abrazo at Rice Hope\, 3164 Mulberry Blvd.\, Port Wentworth\, 31407\, United States
CATEGORIES:Business
ATTACH;FMTTYPE=image/jpeg:https://livelikelocalssavannah.com/wp-content/uploads/2025/12/local-social-jan-Presentation.jpg
END:VEVENT
END:VCALENDAR