BEGIN:VCALENDAR
VERSION:2.0
PRODID:-//Live Like Locals Savannah - ECPv6.15.13//NONSGML v1.0//EN
CALSCALE:GREGORIAN
METHOD:PUBLISH
X-WR-CALNAME:Live Like Locals Savannah
X-ORIGINAL-URL:https://livelikelocalssavannah.com
X-WR-CALDESC:Events for Live Like Locals Savannah
REFRESH-INTERVAL;VALUE=DURATION:PT1H
X-Robots-Tag:noindex
X-PUBLISHED-TTL:PT1H
BEGIN:VTIMEZONE
TZID:America/New_York
BEGIN:DAYLIGHT
TZOFFSETFROM:-0500
TZOFFSETTO:-0400
TZNAME:EDT
DTSTART:20220313T070000
END:DAYLIGHT
BEGIN:STANDARD
TZOFFSETFROM:-0400
TZOFFSETTO:-0500
TZNAME:EST
DTSTART:20221106T060000
END:STANDARD
BEGIN:DAYLIGHT
TZOFFSETFROM:-0500
TZOFFSETTO:-0400
TZNAME:EDT
DTSTART:20230312T070000
END:DAYLIGHT
BEGIN:STANDARD
TZOFFSETFROM:-0400
TZOFFSETTO:-0500
TZNAME:EST
DTSTART:20231105T060000
END:STANDARD
BEGIN:DAYLIGHT
TZOFFSETFROM:-0500
TZOFFSETTO:-0400
TZNAME:EDT
DTSTART:20240310T070000
END:DAYLIGHT
BEGIN:STANDARD
TZOFFSETFROM:-0400
TZOFFSETTO:-0500
TZNAME:EST
DTSTART:20241103T060000
END:STANDARD
BEGIN:DAYLIGHT
TZOFFSETFROM:-0500
TZOFFSETTO:-0400
TZNAME:EDT
DTSTART:20250309T070000
END:DAYLIGHT
BEGIN:STANDARD
TZOFFSETFROM:-0400
TZOFFSETTO:-0500
TZNAME:EST
DTSTART:20251102T060000
END:STANDARD
END:VTIMEZONE
BEGIN:VEVENT
DTSTART;TZID=America/New_York:20240622T150000
DTEND;TZID=America/New_York:20240622T180000
DTSTAMP:20260419T140623
CREATED:20240612T003518Z
LAST-MODIFIED:20240612T003518Z
UID:2872-1719068400-1719079200@livelikelocalssavannah.com
SUMMARY:Viejitos Car Club Georgia Car Show at Patron Mexican Grill
DESCRIPTION:Come and meet some of the hosts of Live Like Locals as we stroll through and meet some of the owners of these cars in the show. \nCome celebrate Father’s Day with us! \nFree event with fun for the whole family! \nWant to bring your ride? Cars\, trucks\, and motorcycles all welcome. Registration is $25 and begins at 2:00pm\, trophies will be awarded 5:30pm – 6:00pm.
URL:https://livelikelocalssavannah.com/event/viejitos-car-club-georgia-car-show-at-patron-mexican-grill/
LOCATION:Patron Mexican Bar & Grill\, 4395 Ogeechee Rd\, Savannah\, 31405\, United States
CATEGORIES:Outdoor Community Event
ATTACH;FMTTYPE=image/jpeg:https://livelikelocalssavannah.com/wp-content/uploads/2024/06/patron-car-show.jpg
END:VEVENT
BEGIN:VEVENT
DTSTART;TZID=America/New_York:20240613T180000
DTEND;TZID=America/New_York:20240613T200000
DTSTAMP:20260419T140623
CREATED:20240606T011313Z
LAST-MODIFIED:20240606T011313Z
UID:2844-1718301600-1718308800@livelikelocalssavannah.com
SUMMARY:Tune In @ Tandem with Shena Verrett!
DESCRIPTION:One of our favorite monthly soirees where cocktails flow\, friends gather\, and the music is LIVE! Performance by: Shena Verrett
URL:https://livelikelocalssavannah.com/event/tune-in-tandem-with-shena-verrett/
LOCATION:Tandem Coffee & Spirits\, 225 E. Bay Street\, Savannah\, 31401\, United States
CATEGORIES:Live Music
ATTACH;FMTTYPE=image/jpeg:https://livelikelocalssavannah.com/wp-content/uploads/2024/06/shena_tandem.jpeg
END:VEVENT
BEGIN:VEVENT
DTSTART;TZID=America/New_York:20240609T100000
DTEND;TZID=America/New_York:20240609T160000
DTSTAMP:20260419T140623
CREATED:20240603T005554Z
LAST-MODIFIED:20240603T005555Z
UID:2821-1717927200-1717948800@livelikelocalssavannah.com
SUMMARY:Mega Market & Farmers Market at Tom Triplett Park in Pooler
DESCRIPTION:Chatham County Parks and Recreation and Live Like Locals Savannah have partnered to bring Pooler a Mega Market & Farmers Market. \nJoin us for a stroll around the park for a little exercise and LOCAL shopping. We’ll have local vendors\, artists\, food trucks and a full kid zone with games and activities. We’ll also have a full Farmers Market and healthy living workshops in English and in Spanish. \nWear comfy shoes and plan to stay awhile. There’s a lot to do and see. \nWe couldn’t do it without our partners. Please help us thank JCB\, JK Productions\, Pooler Magazine\, Effingham Magazine\, Bryan County Magazine\, Lawn Chatter\, The Grow Initiative Georgia and Larek Point Consulting.
URL:https://livelikelocalssavannah.com/event/mega-market-farmers-market-at-tom-triplett-park-in-pooler/
LOCATION:Tom Triplett Park\, 1335 US-80\, Pooler\, GA\, 31322\, United States
CATEGORIES:Market Event
ATTACH;FMTTYPE=image/jpeg:https://livelikelocalssavannah.com/wp-content/uploads/2024/05/2024_06_presentation_Mega_market-1920-x-1080.jpg
END:VEVENT
BEGIN:VEVENT
DTSTART;TZID=America/New_York:20240518T080000
DTEND;TZID=America/New_York:20240518T150000
DTSTAMP:20260419T140623
CREATED:20240505T234310Z
LAST-MODIFIED:20240509T173648Z
UID:2563-1716019200-1716044400@livelikelocalssavannah.com
SUMMARY:2024 Hispanic Chamber Women in Business Conference & Expo
DESCRIPTION:The Women in Business Conference (WIBC) is excited to introduce a fresh and innovative approach to empower and support female entrepreneurs. Building on past successes\, this year’s conference will spotlight the unique cultural aspects that play a pivotal role in the development\, operation\, and success of women entrepreneurs in non-traditional cultural environments. This may sometimes lead to a clash with their own culture\, traditions\, and ethnicity. \nOur decision to adopt this new approach stems from a deep understanding of the importance of family support and cultural heritage in the journey of many female entrepreneurs. In many non-traditional cultures\, family plays a central role in providing not just emotional support but also practical assistance and guidance. This support network extends beyond the immediate family to include extended family members\, friends\, and community members who share common cultural values and experiences. \nBy highlighting the importance of family support and cultural heritage\, we aim to provide attendees with a holistic understanding of entrepreneurship that goes beyond the traditional mainstream individualistic approach. We believe that by acknowledging and celebrating the cultural diversity and richness of our attendees\, we can create a more inclusive and empowering conference experience. \nThe conference will feature a diverse lineup of speakers who will share their insights\, expertise\, and personal stories of triumph. Attendees can expect a mix of practical advice\, inspirational talks\, and networking opportunities designed to help them navigate the challenges of entrepreneurship while honoring their cultural heritage. \nCONFERENCE TOPICS \n\nPractical Strategies for Work-Life Balance – Balancing Cultural Expectations / Time Management in a Multigenerational Household / Holistic Approach to Work-Life Balance\nOvercoming Challenges in Entrepreneurship – Cultural and Gender Biases / Access to Resources / Cultural Empowerment\nBuilding a Strong Support Network – Family as the Foundation / Community Connections / Balancing Individualism and Collectivism\nPersonal Growth and Development – Cultural Identity and Self-Discovery / Resilience Through Cultural Practices / Interconnectedness of Personal and Family Growth\nFinancial Management and Planning– Family Financial Practices / Legacy Building / Integrating Family Values into Financial Goals\nMarketing and Branding Strategies – Cultural Relevance in Marketing / Family-Centric Branding / Community Engagement\nNetworking and Relationship Building – Community-Based Networking/ Family Business Networks / Cross-Cultural Networking\nMindset and Motivation – Collective Success Mindset / Motivation from Family Legacy / Cultural Stories of Triumph\nAdapting to Change and Innovation – Adapting to Market Trends / Embracing Technological Advancements / Agile Business Practices\n\nRegistration for the conference is now open\, with early bird pricing available until May 3\, 2024. Don’t miss this opportunity to connect with like-minded women\, gain valuable insights\, and take your business to new heights. Visit www.msavhcc.org/women-in-business-conference to register and learn more. \nFor further information\, please contact Katina Wheeler at (912) 401-7435 or operations@msavhcc.org.
URL:https://livelikelocalssavannah.com/event/2024-hispanic-chamber-women-in-business-conference-expo/
LOCATION:Fairfield Hotel\, 135 Martin Luther King Jr. Blvd\, Savannah\, 31401\, United States
CATEGORIES:Business Conference
ATTACH;FMTTYPE=image/png:https://livelikelocalssavannah.com/wp-content/uploads/2024/05/msavhcc-conference.png
END:VEVENT
BEGIN:VEVENT
DTSTART;TZID=America/New_York:20240511T130000
DTEND;TZID=America/New_York:20240511T230000
DTSTAMP:20260419T140623
CREATED:20240509T182345Z
LAST-MODIFIED:20240509T182348Z
UID:2589-1715432400-1715468400@livelikelocalssavannah.com
SUMMARY:Mother's Day Celebration at Patron Mexican Grill
DESCRIPTION:Festivities begin at 1PM and run into the early evening. There will be multiple DJs\, special guest appearances\, dancing and if you’ve never been to Patron’s\, you’re in for a treat with some incredible Mexican food. Everyone is welcome to attend and enjoy a full day of entertainment and cultural experiences. \nhttps://livelikelocalssavannah.com/dia-de-las-madres/
URL:https://livelikelocalssavannah.com/event/mothers-day-celebration-at-patron-mexican-grill/
LOCATION:Patron Mexican Bar & Grill\, 4395 Ogeechee Rd\, Savannah\, 31405\, United States
CATEGORIES:Festival
ATTACH;FMTTYPE=image/jpeg:https://livelikelocalssavannah.com/wp-content/uploads/2024/05/dia-del-las-madres-savannah-1.jpg
END:VEVENT
BEGIN:VEVENT
DTSTART;TZID=America/New_York:20240311T180000
DTEND;TZID=America/New_York:20240311T200000
DTSTAMP:20260419T140623
CREATED:20240301T003334Z
LAST-MODIFIED:20240301T004020Z
UID:2175-1710180000-1710187200@livelikelocalssavannah.com
SUMMARY:Networking Dinner
DESCRIPTION:Forge valuable connection with professionals from various industries. Exchange ideas\, build partnerships. and expand your network in a relaxed and welcoming atmosphere. \nTo receive an official confirmation complete the following form: \nhttps://docs.google.com/forms/d/e/1FAIpQLSf4Os6gCQzFEHRCgSMw61LycfRW1Q_MENwsPg1yZPKWhmoWRg/viewform
URL:https://livelikelocalssavannah.com/event/networking-dinner/
LOCATION:Texas Roadhouse\, 101 Outlet Pkwy\, Pooler\, United States
ATTACH;FMTTYPE=image/jpeg:https://livelikelocalssavannah.com/wp-content/uploads/2024/02/networking-dinner.jpg
END:VEVENT
BEGIN:VEVENT
DTSTART;TZID=America/New_York:20240203T170000
DTEND;TZID=America/New_York:20240203T200000
DTSTAMP:20260419T140623
CREATED:20231223T163235Z
LAST-MODIFIED:20231224T164448Z
UID:1472-1706979600-1706990400@livelikelocalssavannah.com
SUMMARY:Movie Night @ Charlie C Brooks
DESCRIPTION:
URL:https://livelikelocalssavannah.com/event/movie-night-charlie-c-brooks/
LOCATION:Charlie C Brooks Park\, 7001 Johnny Mercer Blvd\,\, Savannah\, 31410\, United States
CATEGORIES:Movie Night
ATTACH;FMTTYPE=image/jpeg:https://livelikelocalssavannah.com/wp-content/uploads/2023/12/movie-night-02.03.24-IG.jpg
END:VEVENT
BEGIN:VEVENT
DTSTART;TZID=America/New_York:20240114T190000
DTEND;TZID=America/New_York:20240114T210000
DTSTAMP:20260419T140623
CREATED:20240104T175239Z
LAST-MODIFIED:20240104T175239Z
UID:1655-1705258800-1705266000@livelikelocalssavannah.com
SUMMARY:Tiny Bar Concert Series
DESCRIPTION:Click Here for More
URL:https://livelikelocalssavannah.com/event/tiny-bar-concert-series/
LOCATION:Okán Bar\, 71 Calhoun St\, Bluffton\, SC\, 29910\, United States
CATEGORIES:Live Music
ATTACH;FMTTYPE=image/jpeg:https://livelikelocalssavannah.com/wp-content/uploads/2024/01/okan-bar.jpg
END:VEVENT
BEGIN:VEVENT
DTSTART;TZID=America/New_York:20240114T140000
DTEND;TZID=America/New_York:20240114T150000
DTSTAMP:20260419T140624
CREATED:20231129T030958Z
LAST-MODIFIED:20231212T031139Z
UID:1172-1705240800-1705244400@livelikelocalssavannah.com
SUMMARY:Total Body Bootcamp with Cameron Scott
DESCRIPTION:Workouts are FREE but you must register. 
URL:https://livelikelocalssavannah.com/event/total-body-bootcamp-with-cameron-scott/
LOCATION:Tom Triplett Park\, 1335 US-80\, Pooler\, GA\, 31322\, United States
CATEGORIES:Health
ATTACH;FMTTYPE=image/jpeg:https://livelikelocalssavannah.com/wp-content/uploads/2023/11/LLL-Savannah-bootcamp-cameron-scott.jpg
END:VEVENT
BEGIN:VEVENT
DTSTART;TZID=America/New_York:20240114T130000
DTEND;TZID=America/New_York:20240114T140000
DTSTAMP:20260419T140624
CREATED:20231129T030524Z
LAST-MODIFIED:20231212T031240Z
UID:1169-1705237200-1705240800@livelikelocalssavannah.com
SUMMARY:WORQ Dance Fitness at December Farmers Market
DESCRIPTION:
URL:https://livelikelocalssavannah.com/event/worq-dance-fitness/
LOCATION:Tom Triplett Park\, 1335 US-80\, Pooler\, GA\, 31322\, United States
CATEGORIES:Health
ATTACH;FMTTYPE=image/jpeg:https://livelikelocalssavannah.com/wp-content/uploads/2023/11/LLL-Savannah-Farmers-Market-Hub-Class.jpg
END:VEVENT
BEGIN:VEVENT
DTSTART;TZID=America/New_York:20240114T110000
DTEND;TZID=America/New_York:20240114T120000
DTSTAMP:20260419T140624
CREATED:20231129T025544Z
LAST-MODIFIED:20231212T031334Z
UID:1167-1705230000-1705233600@livelikelocalssavannah.com
SUMMARY:Free Breathwork Class
DESCRIPTION:Breathing the crazy new trend everyone is talking about. Free Breathwork class with Josh Carter.
URL:https://livelikelocalssavannah.com/event/free-breathwork-class/
LOCATION:Tom Triplett Park\, 1335 US-80\, Pooler\, GA\, 31322\, United States
CATEGORIES:Health
ATTACH;FMTTYPE=image/jpeg:https://livelikelocalssavannah.com/wp-content/uploads/2023/11/LLL-Savannah-Farmers-Market-Free-Breathwork-class.jpg
END:VEVENT
BEGIN:VEVENT
DTSTART;TZID=America/New_York:20240114T100000
DTEND;TZID=America/New_York:20240114T110000
DTSTAMP:20260419T140624
CREATED:20231129T020239Z
LAST-MODIFIED:20231212T031641Z
UID:1137-1705226400-1705230000@livelikelocalssavannah.com
SUMMARY:Free Yoga at the Farmers Market
DESCRIPTION:Start your morning by moving your body. We’re hosting free workouts throughout the day a our Farmers Market. \nJoin us for free yoga @ 10AM\, a breathwork class at 11AM WorQ dance fitness at 1PM and a total body Bootcamp at 2PM. Bring your matt\, your bestie\, your sister\, your spouse\, the kiddos or come solo and meet some new friends. \nWorkouts are FREE but you must register
URL:https://livelikelocalssavannah.com/event/free-yoga-at-the-farmers-market/
LOCATION:Tom Triplett Park\, 1335 US-80\, Pooler\, GA\, 31322\, United States
CATEGORIES:Health
ATTACH;FMTTYPE=image/jpeg:https://livelikelocalssavannah.com/wp-content/uploads/2023/11/LLL-Savannah-Farmers-Market-Free-Yoga.jpg
END:VEVENT
BEGIN:VEVENT
DTSTART;TZID=America/New_York:20230917T130000
DTEND;TZID=America/New_York:20230917T180000
DTSTAMP:20260419T140624
CREATED:20230903T023408Z
LAST-MODIFIED:20230903T023408Z
UID:132-1694955600-1694973600@livelikelocalssavannah.com
SUMMARY:Viva Activa - Live Active Festival
DESCRIPTION:The Viva Activa Health and Wellness Festival will be a day full of activities for all ages. There will be fitness classes from the main stage\, learning opportunities\, and health-related vendors to help provide on-site health information and screenings. \nThere will be music\, dancing\, unique vendors\, food trucks\, bouncy houses and games for the whole family. \nThe Viva Activa Health and Wellness Festival is FREE to attend. \nFor more information on Tom Triplett Park and other county resources\, visit: https://parks.chathamcountyga.gov/
URL:https://livelikelocalssavannah.com/event/viva-activa-live-active-festival/
LOCATION:Tom Triplett Park\, 1335 US-80\, Pooler\, GA\, 31322\, United States
CATEGORIES:Agenda Latina,Festival
ATTACH;FMTTYPE=image/jpeg:https://livelikelocalssavannah.com/wp-content/uploads/2023/09/agenda-latina-Viva-Activa-event-cover.jpg
END:VEVENT
END:VCALENDAR