BEGIN:VCALENDAR
VERSION:2.0
PRODID:-//Live Like Locals Savannah - ECPv6.15.13//NONSGML v1.0//EN
CALSCALE:GREGORIAN
METHOD:PUBLISH
X-WR-CALNAME:Live Like Locals Savannah
X-ORIGINAL-URL:https://livelikelocalssavannah.com
X-WR-CALDESC:Events for Live Like Locals Savannah
REFRESH-INTERVAL;VALUE=DURATION:PT1H
X-Robots-Tag:noindex
X-PUBLISHED-TTL:PT1H
BEGIN:VTIMEZONE
TZID:America/New_York
BEGIN:DAYLIGHT
TZOFFSETFROM:-0500
TZOFFSETTO:-0400
TZNAME:EDT
DTSTART:20240310T070000
END:DAYLIGHT
BEGIN:STANDARD
TZOFFSETFROM:-0400
TZOFFSETTO:-0500
TZNAME:EST
DTSTART:20241103T060000
END:STANDARD
BEGIN:DAYLIGHT
TZOFFSETFROM:-0500
TZOFFSETTO:-0400
TZNAME:EDT
DTSTART:20250309T070000
END:DAYLIGHT
BEGIN:STANDARD
TZOFFSETFROM:-0400
TZOFFSETTO:-0500
TZNAME:EST
DTSTART:20251102T060000
END:STANDARD
BEGIN:DAYLIGHT
TZOFFSETFROM:-0500
TZOFFSETTO:-0400
TZNAME:EDT
DTSTART:20260308T070000
END:DAYLIGHT
BEGIN:STANDARD
TZOFFSETFROM:-0400
TZOFFSETTO:-0500
TZNAME:EST
DTSTART:20261101T060000
END:STANDARD
END:VTIMEZONE
BEGIN:VEVENT
DTSTART;TZID=America/New_York:20250501T110000
DTEND;TZID=America/New_York:20250501T130000
DTSTAMP:20260421T191518
CREATED:20250430T014129Z
LAST-MODIFIED:20250430T014326Z
UID:4737-1746097200-1746104400@livelikelocalssavannah.com
SUMMARY:Arbor View Ribbon Cutting and Open House
DESCRIPTION:Join us on Thursday\, May 1st at 11:00 AM for the official Ribbon Cutting and Open House of Arbor View Townhomes\, Port Wentworth’s newest luxury rental community. Located at 300 GA-30\, this thoughtfully designed neighborhood offers 162 upscale 2- and 3-bedroom townhomes featuring spacious interiors\, high-end finishes\, and resort-style amenities .​ \nAttendees will have the opportunity to tour the beautifully crafted homes\, explore community features like the social clubhouse\, 24-hour fitness center\, and resort-style swimming pool\, and learn more about the nearby 150-acre Anchor Park development . Whether you’re a prospective resident\, local business\, or community member\, this event is a great way to connect and celebrate the growth of Port Wentworth.​ \nFor more information or to RSVP\, visit arborviewtownhomes.com or call (912) 202-4402.
URL:https://livelikelocalssavannah.com/event/arbor-view-ribbon-cutting-and-open-house/
LOCATION:Arbor View Apartments\, 300 GA-30\, Port Wentworth\, 31407\, United States
CATEGORIES:Business
ATTACH;FMTTYPE=image/jpeg:https://livelikelocalssavannah.com/wp-content/uploads/2025/04/Arbor-View-Ribbon-Cutting_V2-b.jpg
END:VEVENT
BEGIN:VEVENT
DTSTART;TZID=America/New_York:20250503T083000
DTEND;TZID=America/New_York:20250503T190000
DTSTAMP:20260421T191518
CREATED:20250417T150931Z
LAST-MODIFIED:20250417T150931Z
UID:4642-1746261000-1746298800@livelikelocalssavannah.com
SUMMARY:47th Annual Savannah Scottish Games
DESCRIPTION:6 Reasons to Join Us at the Savannah Scottish Games and Celtic Festival! Thrilling athletic competitions Live music & cultural performances Delicious Scottish food & drinks Unique shopping experiences 30 Celtic Clan Camaraderie Fun for the whole family!
URL:https://livelikelocalssavannah.com/event/47th-annual-savannah-scottish-games/
LOCATION:Bynuh’s Field Bethesda Academy\, 9620 Ferguson Ave\, Savannah\, United States\, 31406
CATEGORIES:Outdoor Community Event
ATTACH;FMTTYPE=image/jpeg:https://livelikelocalssavannah.com/wp-content/uploads/2025/04/ad-savannah-scottish-games.jpg
END:VEVENT
BEGIN:VEVENT
DTSTART;TZID=America/New_York:20250503T100000
DTEND;TZID=America/New_York:20250503T140000
DTSTAMP:20260421T191518
CREATED:20250417T142817Z
LAST-MODIFIED:20250417T142818Z
UID:4640-1746266400-1746280800@livelikelocalssavannah.com
SUMMARY:Spring Fling & Blue Ribbon Walk
DESCRIPTION:Join us for at Tom Triplett Park in Pooler for a Spring Fling.Live Like Locals Savannah and Chatham County Parks & Recreation are thrilled to host this FREE community event.\nThis is a family friendly event. We’ll have a kid zone with lots of games. There’s also a large playground onsite.\nAs always\, we’ll have local vendors and tasty food trucks.\nTom Triplett Park has a beautiful 1.5 mile walking path around a lake. Gilliard & Co. will be leading a Blue Ribbon Walk to raise funds and awareness for foster care.\nYou can register to walk or host a team here:https://gilliardandcompany.org/…/walk-for-foster-care…/\nor join the Live Like Locals Savannah team here: https://gilliardandcompany.givingfuel.com/live-like…\nThank you to our sponsors:Horne Law Firm\, Re-Bath\, Rewewal by Andersen\, Savannah Buccaneers\, Lawn Chatter and HIS Radio.
URL:https://livelikelocalssavannah.com/event/spring-fling-blue-ribbon-walk/
LOCATION:Tom Triplett Park\, 1335 US-80\, Pooler\, GA\, 31322\, United States
CATEGORIES:Market Event,Outdoor Community Event
ATTACH;FMTTYPE=image/jpeg:https://livelikelocalssavannah.com/wp-content/uploads/2025/03/Spring-Fling-web-banner-2.jpg
END:VEVENT
BEGIN:VEVENT
DTSTART;TZID=America/New_York:20250517T100000
DTEND;TZID=America/New_York:20250517T140000
DTSTAMP:20260421T191518
CREATED:20250508T221211Z
LAST-MODIFIED:20250508T221212Z
UID:4810-1747476000-1747490400@livelikelocalssavannah.com
SUMMARY:Port Wentworth Family Fun Fest
DESCRIPTION:Join us for the final Family Fun Fest of the Spring season.Each event is getting bigger and better.\n\nWe’ll have HIS Radio 91.9 out with a very special surprise!\n\nThe Goodwill Bus will be onsite to collect your gently used items.\n\nNow is a great time to do your spring cleaning. Bring your goodies with you for a quick donation.\nYou know we’ll have lots of incredible vendors and a couple of food trucks for lunch. Come early – we’ll have hot coffee ready for you!\n\nAs always\, there will be games for the kiddos and the kids at heart.\n\nHorne Law will also have a special promotion happening in their space. You’ll want to make sure you visit with all the partners for all the goodies! This event is packed full of goodness!!\n\nHuge THANK YOU to our partners and sponsors who help us create FREE family friendly events for the community: \n\nHIS Radio 91.9\nRenewal by Anderson Doors and Windows\nRe-Bath\nHorne Law Firm\nLawn Chatter\n\nIf you’d like to become a vendor – fill out the forms here: https://livelikelocalssavannah.com/port-wentworth-5-17-25/
URL:https://livelikelocalssavannah.com/event/port-wentworth-family-fun-fest/
LOCATION:Port Wentworth City Hall\, 7224 GA-21\, Port Wentworth\, 31407\, United States
CATEGORIES:Outdoor Community Event
ATTACH;FMTTYPE=image/jpeg:https://livelikelocalssavannah.com/wp-content/uploads/2025/05/pww-fun-fest-may-WEB-cover-may-4.jpg
END:VEVENT
BEGIN:VEVENT
DTSTART;TZID=America/New_York:20250530T170000
DTEND;TZID=America/New_York:20250530T200000
DTSTAMP:20260421T191518
CREATED:20250518T220015Z
LAST-MODIFIED:20250518T220015Z
UID:4910-1748624400-1748635200@livelikelocalssavannah.com
SUMMARY:Food Truck Fridays in Port Wentworth begins with Buzz N'Hound
DESCRIPTION:Get ready for the return of Food Truck Fridays — and we’re kicking things off in delicious style! Join us for an evening filled with food\, music\, and community fun on the lawn behind City Hall. \nEnjoy a rotating lineup of 4 delicious food trucks\, 2 dessert vendors\, and local market booths\, all set against the backdrop of live music from Buzz n’ Hound — a dynamic duo known for their soulful covers and laid-back Southern sound. \nBring your lawn chairs\, your appetite\, and your friends. There’s something for everyone — from sweet treats to savory eats\, games for the kids\, and that perfect Friday night vibe. \n🎶 Live music by Buzz n’ Hound🌮 Local food & dessert trucks🛍️ Shop small with local vendors🎉 Free entry | Family & pet friendly \nLet’s make Friday nights the best night of the week in Port Wentworth!
URL:https://livelikelocalssavannah.com/event/food-truck-fridays-in-port-wentworth-begins-with-buzz-nhound/
LOCATION:Port Wentworth City Hall\, 7224 GA-21\, Port Wentworth\, 31407\, United States
CATEGORIES:Outdoor Community Event
ATTACH;FMTTYPE=image/jpeg:https://livelikelocalssavannah.com/wp-content/uploads/2025/05/3-1.jpg
END:VEVENT
END:VCALENDAR