BEGIN:VCALENDAR
VERSION:2.0
PRODID:-//Live Like Locals Savannah - ECPv6.15.13//NONSGML v1.0//EN
CALSCALE:GREGORIAN
METHOD:PUBLISH
X-WR-CALNAME:Live Like Locals Savannah
X-ORIGINAL-URL:https://livelikelocalssavannah.com
X-WR-CALDESC:Events for Live Like Locals Savannah
REFRESH-INTERVAL;VALUE=DURATION:PT1H
X-Robots-Tag:noindex
X-PUBLISHED-TTL:PT1H
BEGIN:VTIMEZONE
TZID:America/New_York
BEGIN:DAYLIGHT
TZOFFSETFROM:-0500
TZOFFSETTO:-0400
TZNAME:EDT
DTSTART:20240310T070000
END:DAYLIGHT
BEGIN:STANDARD
TZOFFSETFROM:-0400
TZOFFSETTO:-0500
TZNAME:EST
DTSTART:20241103T060000
END:STANDARD
BEGIN:DAYLIGHT
TZOFFSETFROM:-0500
TZOFFSETTO:-0400
TZNAME:EDT
DTSTART:20250309T070000
END:DAYLIGHT
BEGIN:STANDARD
TZOFFSETFROM:-0400
TZOFFSETTO:-0500
TZNAME:EST
DTSTART:20251102T060000
END:STANDARD
BEGIN:DAYLIGHT
TZOFFSETFROM:-0500
TZOFFSETTO:-0400
TZNAME:EDT
DTSTART:20260308T070000
END:DAYLIGHT
BEGIN:STANDARD
TZOFFSETFROM:-0400
TZOFFSETTO:-0500
TZNAME:EST
DTSTART:20261101T060000
END:STANDARD
END:VTIMEZONE
BEGIN:VEVENT
DTSTART;TZID=America/New_York:20250501T110000
DTEND;TZID=America/New_York:20250501T130000
DTSTAMP:20260421T191529
CREATED:20250430T014129Z
LAST-MODIFIED:20250430T014326Z
UID:4737-1746097200-1746104400@livelikelocalssavannah.com
SUMMARY:Arbor View Ribbon Cutting and Open House
DESCRIPTION:Join us on Thursday\, May 1st at 11:00 AM for the official Ribbon Cutting and Open House of Arbor View Townhomes\, Port Wentworth’s newest luxury rental community. Located at 300 GA-30\, this thoughtfully designed neighborhood offers 162 upscale 2- and 3-bedroom townhomes featuring spacious interiors\, high-end finishes\, and resort-style amenities .​ \nAttendees will have the opportunity to tour the beautifully crafted homes\, explore community features like the social clubhouse\, 24-hour fitness center\, and resort-style swimming pool\, and learn more about the nearby 150-acre Anchor Park development . Whether you’re a prospective resident\, local business\, or community member\, this event is a great way to connect and celebrate the growth of Port Wentworth.​ \nFor more information or to RSVP\, visit arborviewtownhomes.com or call (912) 202-4402.
URL:https://livelikelocalssavannah.com/event/arbor-view-ribbon-cutting-and-open-house/
LOCATION:Arbor View Apartments\, 300 GA-30\, Port Wentworth\, 31407\, United States
CATEGORIES:Business
ATTACH;FMTTYPE=image/jpeg:https://livelikelocalssavannah.com/wp-content/uploads/2025/04/Arbor-View-Ribbon-Cutting_V2-b.jpg
END:VEVENT
END:VCALENDAR