BEGIN:VCALENDAR
VERSION:2.0
PRODID:-//Live Like Locals Savannah - ECPv6.15.13//NONSGML v1.0//EN
CALSCALE:GREGORIAN
METHOD:PUBLISH
X-WR-CALNAME:Live Like Locals Savannah
X-ORIGINAL-URL:https://livelikelocalssavannah.com
X-WR-CALDESC:Events for Live Like Locals Savannah
REFRESH-INTERVAL;VALUE=DURATION:PT1H
X-Robots-Tag:noindex
X-PUBLISHED-TTL:PT1H
BEGIN:VTIMEZONE
TZID:America/New_York
BEGIN:DAYLIGHT
TZOFFSETFROM:-0500
TZOFFSETTO:-0400
TZNAME:EDT
DTSTART:20240310T070000
END:DAYLIGHT
BEGIN:STANDARD
TZOFFSETFROM:-0400
TZOFFSETTO:-0500
TZNAME:EST
DTSTART:20241103T060000
END:STANDARD
BEGIN:DAYLIGHT
TZOFFSETFROM:-0500
TZOFFSETTO:-0400
TZNAME:EDT
DTSTART:20250309T070000
END:DAYLIGHT
BEGIN:STANDARD
TZOFFSETFROM:-0400
TZOFFSETTO:-0500
TZNAME:EST
DTSTART:20251102T060000
END:STANDARD
BEGIN:DAYLIGHT
TZOFFSETFROM:-0500
TZOFFSETTO:-0400
TZNAME:EDT
DTSTART:20260308T070000
END:DAYLIGHT
BEGIN:STANDARD
TZOFFSETFROM:-0400
TZOFFSETTO:-0500
TZNAME:EST
DTSTART:20261101T060000
END:STANDARD
END:VTIMEZONE
BEGIN:VEVENT
DTSTART;TZID=America/New_York:20250308T160000
DTEND;TZID=America/New_York:20250308T200000
DTSTAMP:20260421T164849
CREATED:20250213T024958Z
LAST-MODIFIED:20250213T024959Z
UID:4043-1741449600-1741464000@livelikelocalssavannah.com
SUMMARY:Pooler Movie Night & Night Market
DESCRIPTION:
URL:https://livelikelocalssavannah.com/event/pooler-movie-night-night-market/
LOCATION:Tom Triplett Park\, 1335 US-80\, Pooler\, GA\, 31322\, United States
CATEGORIES:Movie Night
ATTACH;FMTTYPE=image/jpeg:https://livelikelocalssavannah.com/wp-content/uploads/2025/01/LLL-movie-night-mar-web-banner-1-1.jpg
END:VEVENT
BEGIN:VEVENT
DTSTART;TZID=America/New_York:20250315T100000
DTEND;TZID=America/New_York:20250315T140000
DTSTAMP:20260421T164849
CREATED:20250213T030447Z
LAST-MODIFIED:20250213T030448Z
UID:4046-1742032800-1742047200@livelikelocalssavannah.com
SUMMARY:Port Wentworth Family Fun #3
DESCRIPTION:
URL:https://livelikelocalssavannah.com/event/port-wentworth-family-fun-3/
LOCATION:Port Wentworth City Hall\, 7224 GA-21\, Port Wentworth\, 31407\, United States
CATEGORIES:Outdoor Community Event
ATTACH;FMTTYPE=image/jpeg:https://livelikelocalssavannah.com/wp-content/uploads/2025/02/pww-fun-fest-Mar-WEB-cover.jpg
END:VEVENT
BEGIN:VEVENT
DTSTART;TZID=America/New_York:20250321T180000
DTEND;TZID=America/New_York:20250321T200000
DTSTAMP:20260421T164849
CREATED:20250320T125709Z
LAST-MODIFIED:20250320T125713Z
UID:4231-1742580000-1742587200@livelikelocalssavannah.com
SUMMARY:Pictionary Game Night at Populus Pooler
DESCRIPTION:Join Live Like Locals for a laugh-out-loud Pictionary Game Night at Populus Pooler Luxury Apartments! Get ready for an evening of fast drawing\, wild guesses\, and friendly competition as we put your creativity to the test. Whether you’re a master artist or can barely draw a stick figure\, this game is all about fun! \n🎟 FREE to play\, but registration is required! Grab your friends\, bring your best game face\, and get ready to sketch your way to victory. Prizes\, great company\, and tons of laughs guaranteed! \nSpots are limited—register now to secure your place! 🎉✍️ \nPopulus Pooler
URL:https://livelikelocalssavannah.com/event/pictionary-game-night-at-populus-pooler/
LOCATION:Populus Pooler\, 5000 Populus Dr.\, Pooler\, 31322\, United States
CATEGORIES:Indoor Community Event
ATTACH;FMTTYPE=image/jpeg:https://livelikelocalssavannah.com/wp-content/uploads/2025/03/live-like-locals-savannah-populus-pooler.jpg
END:VEVENT
BEGIN:VEVENT
DTSTART;TZID=America/New_York:20250325T180000
DTEND;TZID=America/New_York:20250325T200000
DTSTAMP:20260421T164849
CREATED:20250320T131014Z
LAST-MODIFIED:20250320T131016Z
UID:4234-1742925600-1742932800@livelikelocalssavannah.com
SUMMARY:Pictionary Game Night at Marion Lake
DESCRIPTION:Think you can draw under pressure? Put your skills to the test at Pictionary Game Night on Tuesday\, March 25th\, from 6 to 8 PM at Marion Lake Luxury Apartments! Whether you’re an artist or just great at guessing\, this night is all about big laughs\, friendly competition\, and creative fun. \n🖍 Fast-paced drawing & hilarious guesses🏆 Fun challenges & prizes🍿 Light snacks & great company \nNon-residents are welcome! Come play\, meet new friends\, and experience the fun\, welcoming community at Marion Lake. \n📍 Marion Lake Luxury Apartments📅 Tuesday\, March 25th⏰ 6:00 – 8:00 PM \nSpots are limited—register now to join the fun!
URL:https://livelikelocalssavannah.com/event/pictionary-game-night-at-marion-lake/
LOCATION:Marion Lake Apartment\, 1850 Benton Blvd\, Savannah\,\, GA\, 31407\, United States
CATEGORIES:Indoor Community Event
ATTACH;FMTTYPE=image/jpeg:https://livelikelocalssavannah.com/wp-content/uploads/2025/03/marion-lake-03.25-pictionary-Presentation-1.jpg
END:VEVENT
BEGIN:VEVENT
DTSTART;TZID=America/New_York:20250327T173000
DTEND;TZID=America/New_York:20250327T193000
DTSTAMP:20260421T164849
CREATED:20250312T223505Z
LAST-MODIFIED:20250312T223505Z
UID:4178-1743096600-1743103800@livelikelocalssavannah.com
SUMMARY:Monthly Food Networking: B&D Burger
DESCRIPTION:Join us for this month’s FoodNetworking event at B&D Burgers! Whether you’re a seasoned professional or just starting out\, this is the perfect opportunity to make meaningful connections in a relaxed and friendly environment. Enjoy delicious food\, engage in enlightening conversations\, and expand your network.
URL:https://livelikelocalssavannah.com/event/monthly-food-networking-bd-burger/
LOCATION:B&D Burger Pooler\, 1 N Godley Station BLVD A 105\, Pooler\, 31322\, United States
CATEGORIES:Business,Nonprofit Fundraising
ATTACH;FMTTYPE=image/jpeg:https://livelikelocalssavannah.com/wp-content/uploads/2025/03/BD-burger-pooler.jpg
END:VEVENT
END:VCALENDAR