BEGIN:VCALENDAR
VERSION:2.0
PRODID:-//Live Like Locals Savannah - ECPv6.15.13//NONSGML v1.0//EN
CALSCALE:GREGORIAN
METHOD:PUBLISH
X-ORIGINAL-URL:https://livelikelocalssavannah.com
X-WR-CALDESC:Events for Live Like Locals Savannah
REFRESH-INTERVAL;VALUE=DURATION:PT1H
X-Robots-Tag:noindex
X-PUBLISHED-TTL:PT1H
BEGIN:VTIMEZONE
TZID:America/New_York
BEGIN:DAYLIGHT
TZOFFSETFROM:-0500
TZOFFSETTO:-0400
TZNAME:EDT
DTSTART:20240310T070000
END:DAYLIGHT
BEGIN:STANDARD
TZOFFSETFROM:-0400
TZOFFSETTO:-0500
TZNAME:EST
DTSTART:20241103T060000
END:STANDARD
BEGIN:DAYLIGHT
TZOFFSETFROM:-0500
TZOFFSETTO:-0400
TZNAME:EDT
DTSTART:20250309T070000
END:DAYLIGHT
BEGIN:STANDARD
TZOFFSETFROM:-0400
TZOFFSETTO:-0500
TZNAME:EST
DTSTART:20251102T060000
END:STANDARD
BEGIN:DAYLIGHT
TZOFFSETFROM:-0500
TZOFFSETTO:-0400
TZNAME:EDT
DTSTART:20260308T070000
END:DAYLIGHT
BEGIN:STANDARD
TZOFFSETFROM:-0400
TZOFFSETTO:-0500
TZNAME:EST
DTSTART:20261101T060000
END:STANDARD
END:VTIMEZONE
BEGIN:VEVENT
DTSTART;TZID=America/New_York:20250127T173000
DTEND;TZID=America/New_York:20250127T193000
DTSTAMP:20260421T125818
CREATED:20250124T152021Z
LAST-MODIFIED:20250124T152021Z
UID:3975-1737999000-1738006200@livelikelocalssavannah.com
SUMMARY:Monthly FoodNetworking at DelSur benefitting Gilliard and Co.
DESCRIPTION:Join us for this month’s FoodNetworking event at DelSur! Whether you’re a seasoned professional or just starting out\, this is the perfect opportunity to make meaningful connections in a relaxed and friendly environment. Enjoy delicious food\, engage in enlightening conversations\, and expand your network.
URL:https://livelikelocalssavannah.com/event/monthly-foodnetworking-at-delsur-benefitting-gilliard-and-co/
LOCATION:DelSur Taqueria Pooler\, 1 N Godley Station Blvd Unit C101\, Pooler\, 31322\, United States
CATEGORIES:Indoor Community Event,Nonprofit Fundraising
ATTACH;FMTTYPE=image/jpeg:https://livelikelocalssavannah.com/wp-content/uploads/2025/01/5.jpg
END:VEVENT
END:VCALENDAR