BEGIN:VCALENDAR
VERSION:2.0
PRODID:-//Live Like Locals Savannah - ECPv6.15.13//NONSGML v1.0//EN
CALSCALE:GREGORIAN
METHOD:PUBLISH
X-WR-CALNAME:Live Like Locals Savannah
X-ORIGINAL-URL:https://livelikelocalssavannah.com
X-WR-CALDESC:Events for Live Like Locals Savannah
REFRESH-INTERVAL;VALUE=DURATION:PT1H
X-Robots-Tag:noindex
X-PUBLISHED-TTL:PT1H
BEGIN:VTIMEZONE
TZID:America/New_York
BEGIN:DAYLIGHT
TZOFFSETFROM:-0500
TZOFFSETTO:-0400
TZNAME:EDT
DTSTART:20230312T070000
END:DAYLIGHT
BEGIN:STANDARD
TZOFFSETFROM:-0400
TZOFFSETTO:-0500
TZNAME:EST
DTSTART:20231105T060000
END:STANDARD
BEGIN:DAYLIGHT
TZOFFSETFROM:-0500
TZOFFSETTO:-0400
TZNAME:EDT
DTSTART:20240310T070000
END:DAYLIGHT
BEGIN:STANDARD
TZOFFSETFROM:-0400
TZOFFSETTO:-0500
TZNAME:EST
DTSTART:20241103T060000
END:STANDARD
BEGIN:DAYLIGHT
TZOFFSETFROM:-0500
TZOFFSETTO:-0400
TZNAME:EDT
DTSTART:20250309T070000
END:DAYLIGHT
BEGIN:STANDARD
TZOFFSETFROM:-0400
TZOFFSETTO:-0500
TZNAME:EST
DTSTART:20251102T060000
END:STANDARD
END:VTIMEZONE
BEGIN:VEVENT
DTSTART;TZID=America/New_York:20241107T180000
DTEND;TZID=America/New_York:20241107T200000
DTSTAMP:20260421T052334
CREATED:20241105T141839Z
LAST-MODIFIED:20241105T141842Z
UID:3613-1731002400-1731009600@livelikelocalssavannah.com
SUMMARY:Trivia Night at Marion Lakes
DESCRIPTION:Join us at Marion Lakes in Pooler for a fun game of trivia. Meet this wonderful community and have a great time.
URL:https://livelikelocalssavannah.com/event/trivia-night-at-marion-lakes/
LOCATION:Marion Lake Apartment\, 1850 Benton Blvd\, Savannah\,\, GA\, 31407\, United States
CATEGORIES:Indoor Event
ATTACH;FMTTYPE=image/jpeg:https://livelikelocalssavannah.com/wp-content/uploads/2024/11/Live-Like-Locals-Marion-Lake-trivia.jpg
END:VEVENT
BEGIN:VEVENT
DTSTART;TZID=America/New_York:20241121T173000
DTEND;TZID=America/New_York:20241121T193000
DTSTAMP:20260421T052334
CREATED:20241109T003150Z
LAST-MODIFIED:20241109T003150Z
UID:3623-1732210200-1732217400@livelikelocalssavannah.com
SUMMARY:Monthly Food Networking: Green Fire Pizza
DESCRIPTION:Join us for this month’s FoodNetworking event at Green Fire Pizza! Whether you’re a seasoned professional or just starting out\, this is the perfect opportunity to make meaningful connections in a relaxed and friendly environment. Enjoy delicious food\, engage in enlightening conversations\, and expand your network.\nDate: Thursday\, November 21\, 2024Time: 5:30pm-7:30pmLocation: Green Fire Pizza1557 Pooler Pkwy Pooler GA 31322\nDonation: All funds from this event will be donated to support youth aging out of foster care.Don’t miss out on this chance to network for a cause. We look forward to seeing you there!
URL:https://livelikelocalssavannah.com/event/monthly-food-networking-green-fire-pizza/
LOCATION:Green Fire Pizza\, 1557 Pooler Pkwy\, Pooler\, 31322\, United States
CATEGORIES:Business,Nonprofit Fundraising
ATTACH;FMTTYPE=image/jpeg:https://livelikelocalssavannah.com/wp-content/uploads/2024/11/food-networking.jpg
END:VEVENT
END:VCALENDAR