BEGIN:VCALENDAR
VERSION:2.0
PRODID:-//Live Like Locals Savannah - ECPv6.15.13//NONSGML v1.0//EN
CALSCALE:GREGORIAN
METHOD:PUBLISH
X-WR-CALNAME:Live Like Locals Savannah
X-ORIGINAL-URL:https://livelikelocalssavannah.com
X-WR-CALDESC:Events for Live Like Locals Savannah
REFRESH-INTERVAL;VALUE=DURATION:PT1H
X-Robots-Tag:noindex
X-PUBLISHED-TTL:PT1H
BEGIN:VTIMEZONE
TZID:America/New_York
BEGIN:DAYLIGHT
TZOFFSETFROM:-0500
TZOFFSETTO:-0400
TZNAME:EDT
DTSTART:20230312T070000
END:DAYLIGHT
BEGIN:STANDARD
TZOFFSETFROM:-0400
TZOFFSETTO:-0500
TZNAME:EST
DTSTART:20231105T060000
END:STANDARD
BEGIN:DAYLIGHT
TZOFFSETFROM:-0500
TZOFFSETTO:-0400
TZNAME:EDT
DTSTART:20240310T070000
END:DAYLIGHT
BEGIN:STANDARD
TZOFFSETFROM:-0400
TZOFFSETTO:-0500
TZNAME:EST
DTSTART:20241103T060000
END:STANDARD
BEGIN:DAYLIGHT
TZOFFSETFROM:-0500
TZOFFSETTO:-0400
TZNAME:EDT
DTSTART:20250309T070000
END:DAYLIGHT
BEGIN:STANDARD
TZOFFSETFROM:-0400
TZOFFSETTO:-0500
TZNAME:EST
DTSTART:20251102T060000
END:STANDARD
END:VTIMEZONE
BEGIN:VEVENT
DTSTART;TZID=America/New_York:20240622T150000
DTEND;TZID=America/New_York:20240622T180000
DTSTAMP:20260419T104537
CREATED:20240612T003518Z
LAST-MODIFIED:20240612T003518Z
UID:2872-1719068400-1719079200@livelikelocalssavannah.com
SUMMARY:Viejitos Car Club Georgia Car Show at Patron Mexican Grill
DESCRIPTION:Come and meet some of the hosts of Live Like Locals as we stroll through and meet some of the owners of these cars in the show. \nCome celebrate Father’s Day with us! \nFree event with fun for the whole family! \nWant to bring your ride? Cars\, trucks\, and motorcycles all welcome. Registration is $25 and begins at 2:00pm\, trophies will be awarded 5:30pm – 6:00pm.
URL:https://livelikelocalssavannah.com/event/viejitos-car-club-georgia-car-show-at-patron-mexican-grill/
LOCATION:Patron Mexican Bar & Grill\, 4395 Ogeechee Rd\, Savannah\, 31405\, United States
CATEGORIES:Outdoor Community Event
ATTACH;FMTTYPE=image/jpeg:https://livelikelocalssavannah.com/wp-content/uploads/2024/06/patron-car-show.jpg
END:VEVENT
END:VCALENDAR