BEGIN:VCALENDAR
VERSION:2.0
PRODID:-//Live Like Locals Savannah - ECPv6.15.13//NONSGML v1.0//EN
CALSCALE:GREGORIAN
METHOD:PUBLISH
X-WR-CALNAME:Live Like Locals Savannah
X-ORIGINAL-URL:https://livelikelocalssavannah.com
X-WR-CALDESC:Events for Live Like Locals Savannah
REFRESH-INTERVAL;VALUE=DURATION:PT1H
X-Robots-Tag:noindex
X-PUBLISHED-TTL:PT1H
BEGIN:VTIMEZONE
TZID:America/New_York
BEGIN:DAYLIGHT
TZOFFSETFROM:-0500
TZOFFSETTO:-0400
TZNAME:EDT
DTSTART:20230312T070000
END:DAYLIGHT
BEGIN:STANDARD
TZOFFSETFROM:-0400
TZOFFSETTO:-0500
TZNAME:EST
DTSTART:20231105T060000
END:STANDARD
BEGIN:DAYLIGHT
TZOFFSETFROM:-0500
TZOFFSETTO:-0400
TZNAME:EDT
DTSTART:20240310T070000
END:DAYLIGHT
BEGIN:STANDARD
TZOFFSETFROM:-0400
TZOFFSETTO:-0500
TZNAME:EST
DTSTART:20241103T060000
END:STANDARD
BEGIN:DAYLIGHT
TZOFFSETFROM:-0500
TZOFFSETTO:-0400
TZNAME:EDT
DTSTART:20250309T070000
END:DAYLIGHT
BEGIN:STANDARD
TZOFFSETFROM:-0400
TZOFFSETTO:-0500
TZNAME:EST
DTSTART:20251102T060000
END:STANDARD
END:VTIMEZONE
BEGIN:VEVENT
DTSTART;TZID=America/New_York:20240311T180000
DTEND;TZID=America/New_York:20240311T200000
DTSTAMP:20260422T233819
CREATED:20240301T003334Z
LAST-MODIFIED:20240301T004020Z
UID:2175-1710180000-1710187200@livelikelocalssavannah.com
SUMMARY:Networking Dinner
DESCRIPTION:Forge valuable connection with professionals from various industries. Exchange ideas\, build partnerships. and expand your network in a relaxed and welcoming atmosphere. \nTo receive an official confirmation complete the following form: \nhttps://docs.google.com/forms/d/e/1FAIpQLSf4Os6gCQzFEHRCgSMw61LycfRW1Q_MENwsPg1yZPKWhmoWRg/viewform
URL:https://livelikelocalssavannah.com/event/networking-dinner/
LOCATION:Texas Roadhouse\, 101 Outlet Pkwy\, Pooler\, United States
ATTACH;FMTTYPE=image/jpeg:https://livelikelocalssavannah.com/wp-content/uploads/2024/02/networking-dinner.jpg
END:VEVENT
END:VCALENDAR